BEGIN:VCALENDAR
VERSION:2.0
CALSCALE:GREGORIAN
PRODID:-//Diputació de Barcelona//DibaCMS//EN
BEGIN:VEVENT
UID:4408
DTSTAMP:20260422T094649
DTSTART:20190618T180000
DTEND:20190618T190000
SUMMARY:Presentació del lot de novetats
LOCATION:
METHOD:PUBLISH
X-WR-CALNAME:capellades@capellades.cat
X-WR-TIMEZONE:Europe/Madrid
DESCRIPTION:El dimarts a les 6 de la tarda es farà la presentació de totes les novetats que han arribat aquest darrer mes a la Biblioteca El Safareig.

URI:https://www.capellades.cat/actualitat/agenda/presentacio-del-lot-de-novetats.html
CLASS:PUBLIC
END:VEVENT
END:VCALENDAR
