BEGIN:VCALENDAR
VERSION:2.0
CALSCALE:GREGORIAN
PRODID:-//Diputació de Barcelona//DibaCMS//EN
BEGIN:VEVENT
UID:4407
DTSTAMP:20260421T114918
DTSTART:20190616T110000
DTEND:20190616T170000
SUMMARY:Festa final de temporada del Club de Futbol Capellades
LOCATION:
METHOD:PUBLISH
X-WR-CALNAME:capellades@capellades.cat
X-WR-TIMEZONE:Europe/Madrid
DESCRIPTION:Després d'un any d'entrenaments i competició, arriba el moment de celebrar els resultats.

URI:https://www.capellades.cat/actualitat/agenda/4407-festa-final-de-temporada-del-club-de-futbol-capellades.html
CLASS:PUBLIC
END:VEVENT
END:VCALENDAR
