BEGIN:VCALENDAR
VERSION:2.0
CALSCALE:GREGORIAN
PRODID:-//Diputació de Barcelona//DibaCMS//EN
BEGIN:VEVENT
UID:4406
DTSTAMP:20260422T033702
DTSTART:20190615T190000
DTEND:20190615T210000
SUMMARY:Concert d'Estiu a Paper de Música
LOCATION:
METHOD:PUBLISH
X-WR-CALNAME:capellades@capellades.cat
X-WR-TIMEZONE:Europe/Madrid
DESCRIPTION:El Concert d'Estiu de Paper de Música serà amb Gil Sisquella al violí i l'Albert Giménez al piano.

URI:https://www.capellades.cat/actualitat/agenda/4406-concert-destiu-a-paper-de-musica.html
CLASS:PUBLIC
END:VEVENT
END:VCALENDAR
