BEGIN:VCALENDAR
VERSION:2.0
CALSCALE:GREGORIAN
PRODID:-//Diputació de Barcelona//DibaCMS//EN
BEGIN:VEVENT
UID:4405
DTSTAMP:20260422T023054
DTSTART:20190615T190000
DTEND:20190615T230000
SUMMARY:Festa i sopar fi de curs Mare del Diví Pastor
LOCATION:
METHOD:PUBLISH
X-WR-CALNAME:capellades@capellades.cat
X-WR-TIMEZONE:Europe/Madrid
DESCRIPTION:Acaba el curs i l'escola Mare del Diví Pastor, com cada any, celebra una festa amb alumnes i famílies.

URI:https://www.capellades.cat/actualitat/agenda/festa-i-sopar-fi-de-curs-mare-del-divi-pastor.html
CLASS:PUBLIC
END:VEVENT
END:VCALENDAR
