BEGIN:VCALENDAR
VERSION:2.0
CALSCALE:GREGORIAN
PRODID:-//Diputació de Barcelona//DibaCMS//EN
BEGIN:VEVENT
UID:4404
DTSTAMP:20260421T115951
DTSTART:20190615T190000
DTEND:20190615T200000
SUMMARY:Entrega de premis Concurs Fotogràfic Sense Fum
LOCATION:
METHOD:PUBLISH
X-WR-CALNAME:capellades@capellades.cat
X-WR-TIMEZONE:Europe/Madrid
DESCRIPTION:El dissabte 15 de juny es farà l'entrega de premis als guanyadors del Concurs Fotogràfic de la Setmana Sense Fum

URI:https://www.capellades.cat/actualitat/agenda/entrega-de-premis-concurs-fotografic-sense-fum.html
CLASS:PUBLIC
END:VEVENT
END:VCALENDAR
