BEGIN:VCALENDAR
VERSION:2.0
CALSCALE:GREGORIAN
PRODID:-//Diputació de Barcelona//DibaCMS//EN
BEGIN:VEVENT
UID:4403
DTSTAMP:20260421T114858
DTSTART:20190615T183000
DTEND:20190615T235000
SUMMARY:Sopar i festa final Marquès de la Pobla
LOCATION:
METHOD:PUBLISH
X-WR-CALNAME:capellades@capellades.cat
X-WR-TIMEZONE:Europe/Madrid
DESCRIPTION:L'escola Marquès de la Pobla celebra la seva festa de fi de curs el dissabte 15 de juny.

URI:https://www.capellades.cat/actualitat/agenda/sopar-i-festa-final-marques-de-la-pobla.html
CLASS:PUBLIC
END:VEVENT
END:VCALENDAR
