BEGIN:VCALENDAR
VERSION:2.0
CALSCALE:GREGORIAN
PRODID:-//Diputació de Barcelona//DibaCMS//EN
BEGIN:VEVENT
UID:4402
DTSTAMP:20260422T023313
DTSTART:20190615T100000
DTEND:20190615T210000
SUMMARY:Torneig de Futbol7
LOCATION:
METHOD:PUBLISH
X-WR-CALNAME:capellades@capellades.cat
X-WR-TIMEZONE:Europe/Madrid
DESCRIPTION:Dimonis de Capellades organitza novament el Torneig de Futbol 7.

URI:https://www.capellades.cat/actualitat/agenda/torneig-de-futbol7.html
CLASS:PUBLIC
END:VEVENT
END:VCALENDAR
