BEGIN:VCALENDAR
VERSION:2.0
CALSCALE:GREGORIAN
PRODID:-//Diputació de Barcelona//DibaCMS//EN
BEGIN:VEVENT
UID:4399
DTSTAMP:20260420T151157
DTSTART:20190614T140000
DTEND:20190614T180000
SUMMARY:Lliga dels Gourmets
LOCATION:
METHOD:PUBLISH
X-WR-CALNAME:capellades@capellades.cat
X-WR-TIMEZONE:Europe/Madrid
DESCRIPTION:Dinar de tast amb La Lliga dels gurmets

URI:https://www.capellades.cat/actualitat/agenda/lliga-dels-gourmets.html
CLASS:PUBLIC
END:VEVENT
END:VCALENDAR
