BEGIN:VCALENDAR
VERSION:2.0
CALSCALE:GREGORIAN
PRODID:-//Diputació de Barcelona//DibaCMS//EN
BEGIN:VEVENT
UID:4395
DTSTAMP:20260421T122034
DTSTART:20190614T193000
DTEND:20190614T210000
SUMMARY:Lliga de Jocs
LOCATION:
METHOD:PUBLISH
X-WR-CALNAME:capellades@capellades.cat
X-WR-TIMEZONE:Europe/Madrid
DESCRIPTION:Nou divendres amb la proposta "La Lliga de Jocs".

URI:https://www.capellades.cat/actualitat/agenda/4395-lliga-de-jocs.html
CLASS:PUBLIC
END:VEVENT
END:VCALENDAR
