BEGIN:VCALENDAR
VERSION:2.0
CALSCALE:GREGORIAN
PRODID:-//Diputació de Barcelona//DibaCMS//EN
BEGIN:VEVENT
UID:4394
DTSTAMP:20260421T190621
DTSTART:20190614T180000
DTEND:20190614T180000
SUMMARY:Setmana d'audicions a l'Escola de Música
LOCATION:
METHOD:PUBLISH
X-WR-CALNAME:capellades@capellades.cat
X-WR-TIMEZONE:Europe/Madrid
DESCRIPTION:A partir del divendres 14 de juny es podrà començar amb les audicions de l'Escola de Música de Capellades.

URI:https://www.capellades.cat/actualitat/agenda/setmana-daudicions-a-lescola-de-musica.html
CLASS:PUBLIC
END:VEVENT
END:VCALENDAR
