BEGIN:VCALENDAR
VERSION:2.0
CALSCALE:GREGORIAN
PRODID:-//Diputació de Barcelona//DibaCMS//EN
BEGIN:VEVENT
UID:4393
DTSTAMP:20260422T140302
DTSTART:20190613T210000
DTEND:20190613T230000
SUMMARY:Trobada dels Clubs de Lectura
LOCATION:
METHOD:PUBLISH
X-WR-CALNAME:capellades@capellades.cat
X-WR-TIMEZONE:Europe/Madrid
DESCRIPTION:El Club de Lectura de la Biblioteca El Safareig participa en una trobada de Clubs de Lectura.

URI:https://www.capellades.cat/actualitat/agenda/trobada-dels-clubs-de-lectura.html
CLASS:PUBLIC
END:VEVENT
END:VCALENDAR
