BEGIN:VCALENDAR
VERSION:2.0
CALSCALE:GREGORIAN
PRODID:-//Diputació de Barcelona//DibaCMS//EN
BEGIN:VEVENT
UID:4392
DTSTAMP:20260421T133014
DTSTART:20190613T180000
DTEND:20190613T200000
SUMMARY:Bingo a Cal Ponet
LOCATION:
METHOD:PUBLISH
X-WR-CALNAME:capellades@capellades.cat
X-WR-TIMEZONE:Europe/Madrid
DESCRIPTION:Els avis i àvies de Cal Ponet faran el seu Bingo mensual el dijous 13 de juny.

URI:https://www.capellades.cat/actualitat/agenda/4392-bingo-a-cal-ponet.html
CLASS:PUBLIC
END:VEVENT
END:VCALENDAR
