BEGIN:VCALENDAR
VERSION:2.0
CALSCALE:GREGORIAN
PRODID:-//Diputació de Barcelona//DibaCMS//EN
BEGIN:VEVENT
UID:4390
DTSTAMP:20260420T083351
DTSTART:20190609T123000
DTEND:20190609T140000
SUMMARY:Concert Cantanta Coral Xeremell
LOCATION:
METHOD:PUBLISH
X-WR-CALNAME:capellades@capellades.cat
X-WR-TIMEZONE:Europe/Madrid
DESCRIPTION:A punt el concert de fi de curs de la Coral Xeremell de Capellades.

URI:https://www.capellades.cat/actualitat/agenda/concert-cantanta-coral-xeremell.html
CLASS:PUBLIC
END:VEVENT
END:VCALENDAR
