BEGIN:VCALENDAR
VERSION:2.0
CALSCALE:GREGORIAN
PRODID:-//Diputació de Barcelona//DibaCMS//EN
BEGIN:VEVENT
UID:4389
DTSTAMP:20260422T131057
DTSTART:20190610T180000
DTEND:20190611T180000
SUMMARY:Club de Lectura Infantil
LOCATION:
METHOD:PUBLISH
X-WR-CALNAME:capellades@capellades.cat
X-WR-TIMEZONE:Europe/Madrid
DESCRIPTION:Els nens i nenes de de 5 a 8 anys tenen nova trobada del Club de Lectura.

URI:https://www.capellades.cat/actualitat/agenda/club-de-lectura-infantil.html
CLASS:PUBLIC
END:VEVENT
END:VCALENDAR
