BEGIN:VCALENDAR
VERSION:2.0
CALSCALE:GREGORIAN
PRODID:-//Diputació de Barcelona//DibaCMS//EN
BEGIN:VEVENT
UID:4388
DTSTAMP:20260420T083135
DTSTART:20190609T120000
DTEND:20190609T170000
SUMMARY:Dinar fi de temporda de l'Hoquei Club Capellades
LOCATION:
METHOD:PUBLISH
X-WR-CALNAME:capellades@capellades.cat
X-WR-TIMEZONE:Europe/Madrid
DESCRIPTION:
URI:https://www.capellades.cat/actualitat/agenda/dinar-fi-de-temporda-de-lhoquei-club-capellades.html
CLASS:PUBLIC
END:VEVENT
END:VCALENDAR
