BEGIN:VCALENDAR
VERSION:2.0
CALSCALE:GREGORIAN
PRODID:-//Diputació de Barcelona//DibaCMS//EN
BEGIN:VEVENT
UID:4386
DTSTAMP:20260420T065509
DTSTART:20190608T190000
DTEND:20190608T235500
SUMMARY:Festa del Club de Futbol Sala
LOCATION:
METHOD:PUBLISH
X-WR-CALNAME:capellades@capellades.cat
X-WR-TIMEZONE:Europe/Madrid
DESCRIPTION:El Club de Futbol Sala Capellades fa la seva festa de final de temporada, a partir de les 7 de la tarda a l'Institut Molí de la Vila.

URI:https://www.capellades.cat/actualitat/agenda/festa-del-club-de-futbol-sala.html
CLASS:PUBLIC
END:VEVENT
END:VCALENDAR
