BEGIN:VCALENDAR
VERSION:2.0
CALSCALE:GREGORIAN
PRODID:-//Diputació de Barcelona//DibaCMS//EN
BEGIN:VEVENT
UID:4380
DTSTAMP:20260420T083604
DTSTART:20190608T100000
DTEND:20190608T120000
SUMMARY:Passejant pels records
LOCATION:
METHOD:PUBLISH
X-WR-CALNAME:capellades@capellades.cat
X-WR-TIMEZONE:Europe/Madrid
DESCRIPTION:Aquesta és una proposta que arriba de la mà d'en Pep Vallès.

URI:https://www.capellades.cat/actualitat/agenda/passejant-pels-records.html
CLASS:PUBLIC
END:VEVENT
END:VCALENDAR
