BEGIN:VCALENDAR
VERSION:2.0
CALSCALE:GREGORIAN
PRODID:-//Diputació de Barcelona//DibaCMS//EN
BEGIN:VEVENT
UID:438
DTSTAMP:20260420T060810
DTSTART:20130713T000000
DTEND:20130713T000000
SUMMARY:13 juliol, Sant Cristòfol
LOCATION:
METHOD:PUBLISH
X-WR-CALNAME:capellades@capellades.cat
X-WR-TIMEZONE:Europe/Madrid
DESCRIPTION:
	Capellades celebra Sant Cristòfol amb actes variats.

	A continuació es pot descarregar el programa d'actes de Sant Cristòfol.

URI:https://www.capellades.cat/actualitat/agenda/13-juliol-sant-cristofol.html
CLASS:PUBLIC
END:VEVENT
END:VCALENDAR
