BEGIN:VCALENDAR
VERSION:2.0
CALSCALE:GREGORIAN
PRODID:-//Diputació de Barcelona//DibaCMS//EN
BEGIN:VEVENT
UID:4378
DTSTAMP:20260422T151419
DTSTART:20190607T200000
DTEND:20190607T220000
SUMMARY:Cinefòrum Josep Romanyà Montcada
LOCATION:
METHOD:PUBLISH
X-WR-CALNAME:capellades@capellades.cat
X-WR-TIMEZONE:Europe/Madrid
DESCRIPTION:Aquest mes de juny la pel·lícula escollida al Cinefòrum Josep Romanyà Montcada és "Florence Foster Jenkins".

URI:https://www.capellades.cat/actualitat/agenda/4378-cineforum-josep-romanya-montcada.html
CLASS:PUBLIC
END:VEVENT
END:VCALENDAR
