BEGIN:VCALENDAR
VERSION:2.0
CALSCALE:GREGORIAN
PRODID:-//Diputació de Barcelona//DibaCMS//EN
BEGIN:VEVENT
UID:4377
DTSTAMP:20260420T065226
DTSTART:20190606T193000
DTEND:20190606T203000
SUMMARY:Xerrada sobre "L'altra cara del judici"
LOCATION:
METHOD:PUBLISH
X-WR-CALNAME:capellades@capellades.cat
X-WR-TIMEZONE:Europe/Madrid
DESCRIPTION:Nova xerrada organitzada des de la Societat La Lliga: "L'altra cara del judici", al Saló Rosa.

URI:https://www.capellades.cat/actualitat/agenda/xerrada-sobre-laltra-cara-del-judici.html
CLASS:PUBLIC
END:VEVENT
END:VCALENDAR
