BEGIN:VCALENDAR
VERSION:2.0
CALSCALE:GREGORIAN
PRODID:-//Diputació de Barcelona//DibaCMS//EN
BEGIN:VEVENT
UID:4376
DTSTAMP:20260420T081647
DTSTART:20190605T103000
DTEND:20190605T113000
SUMMARY:Nova visita de l'Oficina Mòbil d'Atenció al Consumidor
LOCATION:
METHOD:PUBLISH
X-WR-CALNAME:capellades@capellades.cat
X-WR-TIMEZONE:Europe/Madrid
DESCRIPTION:L'Oficina Mòbil d'Atenció al Consumidor farà parada a Capellades el proper dimecres 5 de juny al matí, a la plaça Verdaguer.

URI:https://www.capellades.cat/actualitat/agenda/4376-nova-visita-de-loficina-mobil-datencio-al-consumidor.html
CLASS:PUBLIC
END:VEVENT
END:VCALENDAR
