BEGIN:VCALENDAR
VERSION:2.0
CALSCALE:GREGORIAN
PRODID:-//Diputació de Barcelona//DibaCMS//EN
BEGIN:VEVENT
UID:4375
DTSTAMP:20260420T051958
DTSTART:20190603T170000
DTEND:20190607T200000
SUMMARY:Setmana de Portes Obertes a l'Escola de Música
LOCATION:
METHOD:PUBLISH
X-WR-CALNAME:capellades@capellades.cat
X-WR-TIMEZONE:Europe/Madrid
DESCRIPTION:L'Escola de Música de Capellades obre les seves portes la setmana del 3 al 7 de juny per la tarda.

URI:https://www.capellades.cat/actualitat/agenda/4375-setmana-de-portes-obertes-a-lescola-de-musica.html
CLASS:PUBLIC
END:VEVENT
END:VCALENDAR
