BEGIN:VCALENDAR
VERSION:2.0
CALSCALE:GREGORIAN
PRODID:-//Diputació de Barcelona//DibaCMS//EN
BEGIN:VEVENT
UID:4374
DTSTAMP:20260420T083422
DTSTART:20190602T110000
DTEND:20190602T200000
SUMMARY:Portes obertes a la Piscina Blava
LOCATION:
METHOD:PUBLISH
X-WR-CALNAME:capellades@capellades.cat
X-WR-TIMEZONE:Europe/Madrid
DESCRIPTION:Comença la temporada d'estiu a la Piscina Blava de Capellades.

URI:https://www.capellades.cat/actualitat/agenda/4374-portes-obertes-a-la-piscina-blava.html
CLASS:PUBLIC
END:VEVENT
END:VCALENDAR
