BEGIN:VCALENDAR
VERSION:2.0
CALSCALE:GREGORIAN
PRODID:-//Diputació de Barcelona//DibaCMS//EN
BEGIN:VEVENT
UID:4373
DTSTAMP:20260420T093433
DTSTART:20190601T230000
DTEND:20190601T235500
SUMMARY:Nit musical amb La Guingueta
LOCATION:
METHOD:PUBLISH
X-WR-CALNAME:capellades@capellades.cat
X-WR-TIMEZONE:Europe/Madrid
DESCRIPTION:La Lliga celebra que ha arribat als 1.000 socis, amb una nit musical amb el grup La Guingueta.

URI:https://www.capellades.cat/actualitat/agenda/nit-musical-amb-la-guingueta.html
CLASS:PUBLIC
END:VEVENT
END:VCALENDAR
