BEGIN:VCALENDAR
VERSION:2.0
CALSCALE:GREGORIAN
PRODID:-//Diputació de Barcelona//DibaCMS//EN
BEGIN:VEVENT
UID:4372
DTSTAMP:20260420T065337
DTSTART:20190601T190000
DTEND:20190601T210000
SUMMARY:Concert amb Amazing Gospel
LOCATION:
METHOD:PUBLISH
X-WR-CALNAME:capellades@capellades.cat
X-WR-TIMEZONE:Europe/Madrid
DESCRIPTION:La Lliga celebra que ha arribat als 1.000 socis, amb un concert amb Amazing Gospel.

URI:https://www.capellades.cat/actualitat/agenda/concert-amb-amazing-gospel.html
CLASS:PUBLIC
END:VEVENT
END:VCALENDAR
