BEGIN:VCALENDAR
VERSION:2.0
CALSCALE:GREGORIAN
PRODID:-//Diputació de Barcelona//DibaCMS//EN
BEGIN:VEVENT
UID:4371
DTSTAMP:20260420T051116
DTSTART:20190601T143000
DTEND:20190601T170000
SUMMARY:Dinar popular i espectacle de màgia amb Sergi Armentano
LOCATION:
METHOD:PUBLISH
X-WR-CALNAME:capellades@capellades.cat
X-WR-TIMEZONE:Europe/Madrid
DESCRIPTION:La Lliga celebra que ha arribat als 1.000 socis, amb un dinar popular i un espectacle de màgia amb Sergi Armentano.

URI:https://www.capellades.cat/actualitat/agenda/dinar-popular-i-espectacle-de-magia-amb-sergi-armentano.html
CLASS:PUBLIC
END:VEVENT
END:VCALENDAR
