BEGIN:VCALENDAR
VERSION:2.0
CALSCALE:GREGORIAN
PRODID:-//Diputació de Barcelona//DibaCMS//EN
BEGIN:VEVENT
UID:4370
DTSTAMP:20260420T083039
DTSTART:20190601T130000
DTEND:20190601T140000
SUMMARY:Concert vermut amb The Curlies
LOCATION:
METHOD:PUBLISH
X-WR-CALNAME:capellades@capellades.cat
X-WR-TIMEZONE:Europe/Madrid
DESCRIPTION:La Lliga celebra que ha arribat als 1.000 socis, amb un concert vermut amb The Curlies.

URI:https://www.capellades.cat/actualitat/agenda/concert-vermut-amb-the-curlies.html
CLASS:PUBLIC
END:VEVENT
END:VCALENDAR
