BEGIN:VCALENDAR
VERSION:2.0
CALSCALE:GREGORIAN
PRODID:-//Diputació de Barcelona//DibaCMS//EN
BEGIN:VEVENT
UID:4369
DTSTAMP:20260422T121256
DTSTART:20190601T110000
DTEND:20190601T123000
SUMMARY:Festival infantil amb Marcel Gros
LOCATION:
METHOD:PUBLISH
X-WR-CALNAME:capellades@capellades.cat
X-WR-TIMEZONE:Europe/Madrid
DESCRIPTION:La Lliga celebra que ha arribat als 1.000 socis, amb un Festival infantil amb en Marcel Gros.

URI:https://www.capellades.cat/actualitat/agenda/festival-infantil-amb-marcel-gros.html
CLASS:PUBLIC
END:VEVENT
END:VCALENDAR
