BEGIN:VCALENDAR
VERSION:2.0
CALSCALE:GREGORIAN
PRODID:-//Diputació de Barcelona//DibaCMS//EN
BEGIN:VEVENT
UID:4368
DTSTAMP:20260420T065253
DTSTART:20190601T110000
DTEND:20190601T230000
SUMMARY:La Lliga celebra els 1000 socis
LOCATION:
METHOD:PUBLISH
X-WR-CALNAME:capellades@capellades.cat
X-WR-TIMEZONE:Europe/Madrid
DESCRIPTION:La Lliga celebra que ha arribat als 1.000 socis amb tota una jornada d'actes diversos.

URI:https://www.capellades.cat/actualitat/agenda/la-lliga-celebra-els-1000-socis.html
CLASS:PUBLIC
END:VEVENT
END:VCALENDAR
