BEGIN:VCALENDAR
VERSION:2.0
CALSCALE:GREGORIAN
PRODID:-//Diputació de Barcelona//DibaCMS//EN
BEGIN:VEVENT
UID:4359
DTSTAMP:20260420T051912
DTSTART:20190531T193000
DTEND:20190531T210000
SUMMARY:Cinema amb la pel·lícula Intocable
LOCATION:
METHOD:PUBLISH
X-WR-CALNAME:capellades@capellades.cat
X-WR-TIMEZONE:Europe/Madrid
DESCRIPTION:Aquest darrer divendres de mes, a dos quarts de 8 del vespre a la Sala Petitat del Teatre La Lliga, nova pel·lícula: "Intocables".

URI:https://www.capellades.cat/actualitat/agenda/cinema-amb-la-pellicula-intocable.html
CLASS:PUBLIC
END:VEVENT
END:VCALENDAR
