BEGIN:VCALENDAR
VERSION:2.0
CALSCALE:GREGORIAN
PRODID:-//Diputació de Barcelona//DibaCMS//EN
BEGIN:VEVENT
UID:4358
DTSTAMP:20260422T115121
DTSTART:20190530T193000
DTEND:20190530T210000
SUMMARY:Xerrada sobre Dietes miraculoses
LOCATION:
METHOD:PUBLISH
X-WR-CALNAME:capellades@capellades.cat
X-WR-TIMEZONE:Europe/Madrid
DESCRIPTION:La Marta Julià, del Centre Mèdic Capellades, farà una xerrada al Saló Rosa sobre "Dietes miraculoses".

URI:https://www.capellades.cat/actualitat/agenda/xerrada-sobre-dietes-miraculoses.html
CLASS:PUBLIC
END:VEVENT
END:VCALENDAR
