BEGIN:VCALENDAR
VERSION:2.0
CALSCALE:GREGORIAN
PRODID:-//Diputació de Barcelona//DibaCMS//EN
BEGIN:VEVENT
UID:4357
DTSTAMP:20260420T083518
DTSTART:20190530T190000
DTEND:20190530T191500
SUMMARY:Concentració en rebuig als assassinats masclistes
LOCATION:
METHOD:PUBLISH
X-WR-CALNAME:capellades@capellades.cat
X-WR-TIMEZONE:Europe/Madrid
DESCRIPTION:Aquest dijous, darrer de mes, es farà una nova concentració en rebuig als assassinats masclistes.

URI:https://www.capellades.cat/actualitat/agenda/4357-concentracio-en-rebuig-als-assassinats-masclistes.html
CLASS:PUBLIC
END:VEVENT
END:VCALENDAR
