BEGIN:VCALENDAR
VERSION:2.0
CALSCALE:GREGORIAN
PRODID:-//Diputació de Barcelona//DibaCMS//EN
BEGIN:VEVENT
UID:4356
DTSTAMP:20260422T161358
DTSTART:20190528T203000
DTEND:20190528T220000
SUMMARY:Audiciona't a l'Escola de Música
LOCATION:
METHOD:PUBLISH
X-WR-CALNAME:capellades@capellades.cat
X-WR-TIMEZONE:Europe/Madrid
DESCRIPTION:Avui, nou "Audiciona't" a l'Escola de Música de Capellades.

URI:https://www.capellades.cat/actualitat/agenda/4356-audicionat-a-lescola-de-musica.html
CLASS:PUBLIC
END:VEVENT
END:VCALENDAR
