BEGIN:VCALENDAR
VERSION:2.0
CALSCALE:GREGORIAN
PRODID:-//Diputació de Barcelona//DibaCMS//EN
BEGIN:VEVENT
UID:4353
DTSTAMP:20260422T114257
DTSTART:20190528T190000
DTEND:20190528T200000
SUMMARY:Xerrada sobre nutrició amb Núria Gabriel Puiggrós
LOCATION:
METHOD:PUBLISH
X-WR-CALNAME:capellades@capellades.cat
X-WR-TIMEZONE:Europe/Madrid
DESCRIPTION:No saps quins esmorzars saludables pots fer?

URI:https://www.capellades.cat/actualitat/agenda/xerrada-sobre-nutricio-amb-nuria-gabriel-puiggros.html
CLASS:PUBLIC
END:VEVENT
END:VCALENDAR
