BEGIN:VCALENDAR
VERSION:2.0
CALSCALE:GREGORIAN
PRODID:-//Diputació de Barcelona//DibaCMS//EN
BEGIN:VEVENT
UID:4352
DTSTAMP:20260422T103702
DTSTART:20190524T230000
DTEND:20190525T010000
SUMMARY:Nits musicals
LOCATION:
METHOD:PUBLISH
X-WR-CALNAME:capellades@capellades.cat
X-WR-TIMEZONE:Europe/Madrid
DESCRIPTION:Tots els divendres de maig i juny, música en directe a la terrassa de La Lliga.

URI:https://www.capellades.cat/actualitat/agenda/nits-musicals.html
CLASS:PUBLIC
END:VEVENT
END:VCALENDAR
