BEGIN:VCALENDAR
VERSION:2.0
CALSCALE:GREGORIAN
PRODID:-//Diputació de Barcelona//DibaCMS//EN
BEGIN:VEVENT
UID:4351
DTSTAMP:20260420T094605
DTSTART:20190526T090000
DTEND:20190526T200000
SUMMARY:Eleccions municipals i europees
LOCATION:
METHOD:PUBLISH
X-WR-CALNAME:capellades@capellades.cat
X-WR-TIMEZONE:Europe/Madrid
DESCRIPTION:Durant tot el diumenge es podrà votar als tres col·legis electorals de Capellades.

URI:https://www.capellades.cat/actualitat/agenda/eleccions-municipals-i-europees.html
CLASS:PUBLIC
END:VEVENT
END:VCALENDAR
