BEGIN:VCALENDAR
VERSION:2.0
CALSCALE:GREGORIAN
PRODID:-//Diputació de Barcelona//DibaCMS//EN
BEGIN:VEVENT
UID:4350
DTSTAMP:20260422T133835
DTSTART:20190525T190000
DTEND:20190525T210000
SUMMARY:Concert amb Klaima Trio
LOCATION:
METHOD:PUBLISH
X-WR-CALNAME:capellades@capellades.cat
X-WR-TIMEZONE:Europe/Madrid
DESCRIPTION:Aquest Concert Especial tindrà lloc a les 7 de la tarda, dissabte, a Paper de Música.

URI:https://www.capellades.cat/actualitat/agenda/concert-amb-klaima-trio.html
CLASS:PUBLIC
END:VEVENT
END:VCALENDAR
