BEGIN:VCALENDAR
VERSION:2.0
CALSCALE:GREGORIAN
PRODID:-//Diputació de Barcelona//DibaCMS//EN
BEGIN:VEVENT
UID:4345
DTSTAMP:20260422T163241
DTSTART:20190523T210000
DTEND:20190523T230000
SUMMARY:Tast de vins 
LOCATION:
METHOD:PUBLISH
X-WR-CALNAME:capellades@capellades.cat
X-WR-TIMEZONE:Europe/Madrid
DESCRIPTION:Nou tast de vins organitzat des de Bodega Torres i La Lliga.

URI:https://www.capellades.cat/actualitat/agenda/tast-de-vins-.html
CLASS:PUBLIC
END:VEVENT
END:VCALENDAR
