BEGIN:VCALENDAR
VERSION:2.0
CALSCALE:GREGORIAN
PRODID:-//Diputació de Barcelona//DibaCMS//EN
BEGIN:VEVENT
UID:4344
DTSTAMP:20260422T130803
DTSTART:20190524T200000
DTEND:20190524T220000
SUMMARY:Debat eleccions municipals
LOCATION:
METHOD:PUBLISH
X-WR-CALNAME:capellades@capellades.cat
X-WR-TIMEZONE:Europe/Madrid
DESCRIPTION:Aquest divendres es farà una nova edició del debat electoral.

URI:https://www.capellades.cat/actualitat/agenda/debat-eleccions-municipals.html
CLASS:PUBLIC
END:VEVENT
END:VCALENDAR
