BEGIN:VCALENDAR
VERSION:2.0
CALSCALE:GREGORIAN
PRODID:-//Diputació de Barcelona//DibaCMS//EN
BEGIN:VEVENT
UID:4343
DTSTAMP:20260422T161721
DTSTART:20190523T200000
DTEND:20190523T210000
SUMMARY:Acte final de Campanya Vdc-CUP
LOCATION:
METHOD:PUBLISH
X-WR-CALNAME:capellades@capellades.cat
X-WR-TIMEZONE:Europe/Madrid
DESCRIPTION:L'acte de tancament de la campanya electoral del grup de Vila de Capellades- CUP serà aquest dijous 23 e maig a les 8 del vespre al carrer 11 de setembre.

URI:https://www.capellades.cat/actualitat/agenda/acte-final-de-campanya-vdc-cup.html
CLASS:PUBLIC
END:VEVENT
END:VCALENDAR
