BEGIN:VCALENDAR
VERSION:2.0
CALSCALE:GREGORIAN
PRODID:-//Diputació de Barcelona//DibaCMS//EN
BEGIN:VEVENT
UID:4336
DTSTAMP:20260420T085509
DTSTART:20190517T000000
DTEND:20190517T000000
SUMMARY:Capellades acollirà una nova trobada de puntaires
LOCATION:
METHOD:PUBLISH
X-WR-CALNAME:capellades@capellades.cat
X-WR-TIMEZONE:Europe/Madrid
DESCRIPTION:El grup de Puntaires de Capellades organitza una nova trobada de puntaires a Capellades.

URI:https://www.capellades.cat/actualitat/agenda/capellades-acollira-una-nova-trobada-de-puntaires.html
CLASS:PUBLIC
END:VEVENT
END:VCALENDAR
