BEGIN:VCALENDAR
VERSION:2.0
CALSCALE:GREGORIAN
PRODID:-//Diputació de Barcelona//DibaCMS//EN
BEGIN:VEVENT
UID:4335
DTSTAMP:20260422T162212
DTSTART:20190519T100000
DTEND:20190519T133000
SUMMARY:Trobada de puntaires
LOCATION:
METHOD:PUBLISH
X-WR-CALNAME:capellades@capellades.cat
X-WR-TIMEZONE:Europe/Madrid
DESCRIPTION:El grup de Puntaires de Capellades organitza una nova trobada a Capellades.

URI:https://www.capellades.cat/actualitat/agenda/trobada-de-puntaires.html
CLASS:PUBLIC
END:VEVENT
END:VCALENDAR
