BEGIN:VCALENDAR
VERSION:2.0
CALSCALE:GREGORIAN
PRODID:-//Diputació de Barcelona//DibaCMS//EN
BEGIN:VEVENT
UID:4334
DTSTAMP:20260422T164032
DTSTART:20190517T200000
DTEND:20190517T220000
SUMMARY:Nova trobada del Cinefòrum Josep Romanyà Montcada
LOCATION:
METHOD:PUBLISH
X-WR-CALNAME:capellades@capellades.cat
X-WR-TIMEZONE:Europe/Madrid
DESCRIPTION:Nova edició del cinefòrum Josep Romanyà Montcada.

URI:https://www.capellades.cat/actualitat/agenda/nova-trobada-del-cineforum-josep-romanya-montcada.html
CLASS:PUBLIC
END:VEVENT
END:VCALENDAR
