BEGIN:VCALENDAR
VERSION:2.0
CALSCALE:GREGORIAN
PRODID:-//Diputació de Barcelona//DibaCMS//EN
BEGIN:VEVENT
UID:4331
DTSTAMP:20260422T134339
DTSTART:20190516T190000
DTEND:20190516T200000
SUMMARY:Taller de danses per la pau
LOCATION:
METHOD:PUBLISH
X-WR-CALNAME:capellades@capellades.cat
X-WR-TIMEZONE:Europe/Madrid
DESCRIPTION:
URI:https://www.capellades.cat/actualitat/agenda/taller-de-danses-per-la-pau.html
CLASS:PUBLIC
END:VEVENT
END:VCALENDAR
