BEGIN:VCALENDAR
VERSION:2.0
CALSCALE:GREGORIAN
PRODID:-//Diputació de Barcelona//DibaCMS//EN
BEGIN:VEVENT
UID:4330
DTSTAMP:20260422T161414
DTSTART:20190518T110000
DTEND:20190519T160000
SUMMARY:Vine a animar el teu equip
LOCATION:
METHOD:PUBLISH
X-WR-CALNAME:capellades@capellades.cat
X-WR-TIMEZONE:Europe/Madrid
DESCRIPTION:Aquest dissabte i diumenge vine a animar el teu equip al Pavelló Poliesportiu de Capellades.

URI:https://www.capellades.cat/actualitat/agenda/4330-vine-a-animar-el-teu-equip.html
CLASS:PUBLIC
END:VEVENT
END:VCALENDAR
