BEGIN:VCALENDAR
VERSION:2.0
CALSCALE:GREGORIAN
PRODID:-//Diputació de Barcelona//DibaCMS//EN
BEGIN:VEVENT
UID:4322
DTSTAMP:20260420T080632
DTSTART:20190519T130000
DTEND:20190519T160000
SUMMARY:Acte central de campanya del PSC
LOCATION:
METHOD:PUBLISH
X-WR-CALNAME:capellades@capellades.cat
X-WR-TIMEZONE:Europe/Madrid
DESCRIPTION:A Cal Ponet es farà l'acte central de campanya del PSC a Capellades.

URI:https://www.capellades.cat/actualitat/agenda/acte-central-de-campanya-del-psc.html
CLASS:PUBLIC
END:VEVENT
END:VCALENDAR
