BEGIN:VCALENDAR
VERSION:2.0
CALSCALE:GREGORIAN
PRODID:-//Diputació de Barcelona//DibaCMS//EN
BEGIN:VEVENT
UID:4316
DTSTAMP:20260422T161323
DTSTART:20190511T090000
DTEND:20190511T180000
SUMMARY:Vine a animar el teu equip
LOCATION:
METHOD:PUBLISH
X-WR-CALNAME:capellades@capellades.cat
X-WR-TIMEZONE:Europe/Madrid
DESCRIPTION:Aquest cap de setmana, dissabte, el Club de Futbol Sala jugarà dos partits.

URI:https://www.capellades.cat/actualitat/agenda/4316-vine-a-animar-el-teu-equip.html
CLASS:PUBLIC
END:VEVENT
END:VCALENDAR
