BEGIN:VCALENDAR
VERSION:2.0
CALSCALE:GREGORIAN
PRODID:-//Diputació de Barcelona//DibaCMS//EN
BEGIN:VEVENT
UID:4312
DTSTAMP:20260420T080450
DTSTART:20190515T190000
DTEND:20190515T200000
SUMMARY:Presentació de la candidatura de Ciutadans
LOCATION:
METHOD:PUBLISH
X-WR-CALNAME:capellades@capellades.cat
X-WR-TIMEZONE:Europe/Madrid
DESCRIPTION:El dimecres 15 de maig a les 7 de la tarda es farà la presentació de la candidatura de Ciutadans a Capellades.

URI:https://www.capellades.cat/actualitat/agenda/presentacio-de-la-candidatura-de-ciutadans.html
CLASS:PUBLIC
END:VEVENT
END:VCALENDAR
