BEGIN:VCALENDAR
VERSION:2.0
CALSCALE:GREGORIAN
PRODID:-//Diputació de Barcelona//DibaCMS//EN
BEGIN:VEVENT
UID:4309
DTSTAMP:20260422T114446
DTSTART:20190513T180000
DTEND:20190514T180000
SUMMARY:Club de Lectura Petits Lectors
LOCATION:
METHOD:PUBLISH
X-WR-CALNAME:capellades@capellades.cat
X-WR-TIMEZONE:Europe/Madrid
DESCRIPTION:Les dues sessions d'aquest mes del Club de Lectura Petits Lectors seran el dilluns 13 i dimarts 14 de maig.

URI:https://www.capellades.cat/actualitat/agenda/4309-club-de-lectura-petits-lectors.html
CLASS:PUBLIC
END:VEVENT
END:VCALENDAR
