BEGIN:VCALENDAR
VERSION:2.0
CALSCALE:GREGORIAN
PRODID:-//Diputació de Barcelona//DibaCMS//EN
BEGIN:VEVENT
UID:4306
DTSTAMP:20260422T150713
DTSTART:20190511T120000
DTEND:20190525T210000
SUMMARY:Exposició Homenatge Ton Colom Saumell
LOCATION:
METHOD:PUBLISH
X-WR-CALNAME:capellades@capellades.cat
X-WR-TIMEZONE:Europe/Madrid
DESCRIPTION:Casa Bas, la sala municipal d'exposicions acull una nova exposició.

URI:https://www.capellades.cat/actualitat/agenda/exposicio-homenatge-ton-colom-saumell.html
CLASS:PUBLIC
END:VEVENT
END:VCALENDAR
